Workbook

Sheet SEZIONE 1
A2: COMUNE di CAPISTRELLO
A3: Servizio ELETTORALE
A5: Elezioni amministrative 31 MAGGIO 2015
A6: ELEZIONE DIRETTA DEL SINDACO E DI N° 12 CONSIGLIERI COMUNALI
A7: 6 SEZIONI SU 6
B9: TOTALE VOTI LISTA | F9: TOTALE VOTI LISTA | J9: TOTALE VOTI LISTA
B10: LISTA N° 1 - MOVIMENTO 5 STELLE | F10: LISTA N° 2 - UN PAESE IN COMUNE | J10: LISTA N° 3 - PARTECIPAZIONE E SVILUPPO
B11: VOTI DI LISTA SENZA PREFERENZA | F11: VOTI DI LISTA SENZA PREFERENZA | J11: VOTI DI LISTA SENZA PREFERENZA
C12: PREFER | G12: PREFER | K12: PREFER
B13: BISEGNA ANGELO | F13: PIACENTE FRANCESCO | J13: CICIOTTI FRANCESCO
A14: 1 | B14: D'ASCANIO Manuel | F14: BUSSI Dina | J14: BISEGNA Francesco detto Franco
A15: =+A14+1 -> 2 | B15: FANTOZZI Italo Cesidio | F15: CROCE Alessandro | J15: DE MEIS Orazio
A16: =+A15+1 -> 3 | B16: BISEGNA Antonina | F16: DI FELICE Nicolino detto Nicola | J16: DE VECCHIS Rodolfo
A17: =+A16+1 -> 4 | B17: PALLESCHI Enrico | F17: LUSI Alessandro | J17: DI GIACOMO Corrado
A18: =+A17+1 -> 5 | B18: MORETTI Ulisse | F18: MARIANI Anna Rita | J18: FANTOZZI Alessia
A19: =+A18+1 -> 6 | B19: SCATENA Antonio Gianluca | F19: MARIANI Arnaldo | J19: FANTOZZI Silvia
A20: =+A19+1 -> 7 | B20: ALFONSI Agostino | F20: ORLANDI Agostino | J20: LEONE Remo
A21: =+A20+1 -> 8 | B21: TOFFANIN Roberto | F21: PICOZZI Edoardo detto Gianluca | J21: PERSIA Moreno
A22: =+A21+1 -> 9 | B22: ELIGI Francesco | F22: SALUSTRI Egidio | J22: PERSIA Ulderico
A23: =+A22+1 -> 10 | F23: SCATENA Anna Maria | J23: SCATENA Geltrude
A24: =+A23+1 -> 11 | F24: STATI Carmine | J24: SILVESTRI Antonella
A25: =+A24+1 -> 12 | F25: STATI Wilma | J25: STATI Angelo
A26: =+A25+1 -> 13 | B26: Roberta TOLLIS | C26: 0 | F26: Finezio ROZZI | G26: 0 | J26: Aldo PIZZI | K26: 0
A27: =+A26+1 -> 14 | B27: Maria VISCHETTI | C27: 0 | F27: Sabatino SALVATI | G27: 0 | J27: Antonio NARDI | K27: 0
A28: =+A27+1 -> 15 | B28: Simonetta VISCHETTI | C28: 0 | F28: Angelo STATI | G28: 0 | J28: Fabrizio LUSI | K28: 0
A29: =+A28+1 -> 16 | B29: Nicolino DI FELICE | C29: 0 | F29: Grazioso VAIANI | G29: 0 | J29: Marco VENDITTI | K29: 0
B30: TOTALE | F30: TOTALE | J30: TOTALE
F32: VOTI LISTA TOTALI
A35: SCHEDE BIANCHE
A37: SCHEDE NULLE
A39: TOTALE VOTI VALIDI + NULLE + BIANCHE

Sheet SEZIONE 2
A2: COMUNE di CAPISTRELLO
A3: Servizio ELETTORALE
A5: Elezioni amministrative 31 MAGGIO 2015
A6: ELEZIONE DIRETTA DEL SINDACO E DI N° 12 CONSIGLIERI COMUNALI
A7: SEZIONE N° 2
B9: TOTALE VOTI LISTA | F9: TOTALE VOTI LISTA | J9: TOTALE VOTI LISTA
B10: LISTA N° 1 - MOVIMENTO 5 STELLE | F10: LISTA N° 2 - UN PAESE IN COMUNE | J10: LISTA N° 3 - PARTECIPAZIONE E SVILUPPO
B11: VOTI SENZA | C11: PREFER | D11: V.LISTA | F11: CANDIDATI | G11: PREFER | H11: V LISTA | J11: CANDIDATI | K11: PREFER | L11: V .LISTA
B12: CANDIDATI
B13: BISEGNA ANGELO | F13: PIACENTE FRANCESCO | J13: CICIOTTI FRANCESCO
A14: 1 | B14: D'ASCANIO Manuel | F14: BUSSI Dina | G14: 0 | J14: BISEGNA Francesco detto Franco | K14: 0
A15: =+A14+1 -> 2 | B15: FANTOZZI Italo Cesidio | F15: CROCE Alessandro | G15: 0 | J15: DE MEIS Orazio | K15: 0
A16: =+A15+1 -> 3 | B16: BISEGNA Antonina | F16: DI FELICE Nicolino detto Nicola | G16: 0 | J16: DE VECCHIS Rodolfo | K16: 0
A17: =+A16+1 -> 4 | B17: PALLESCHI Enrico | F17: LUSI Alessandro | G17: 0 | J17: DI GIACOMO Corrado | K17: 0
A18: =+A17+1 -> 5 | B18: MORETTI Ulisse | F18: MARIANI Anna Rita | G18: 0 | J18: FANTOZZI Alessia | K18: 0
A19: =+A18+1 -> 6 | B19: SCATENA Antonio Gianluca | F19: MARIANI Arnaldo | G19: 0 | J19: FANTOZZI Silvia | K19: 0
A20: =+A19+1 -> 7 | B20: ALFONSI Agostino | F20: ORLANDI Agostino | G20: 0 | J20: LEONE Remo | K20: 0
A21: =+A20+1 -> 8 | B21: TOFFANIN Roberto | F21: PICOZZI Edoardo detto Gianluca | G21: 0 | J21: PERSIA Moreno | K21: 0
A22: =+A21+1 -> 9 | B22: ELIGI Francesco | F22: SALUSTRI Egidio | G22: 0 | J22: PERSIA Ulderico | K22: 0
A23: =+A22+1 -> 10 | F23: SCATENA Anna Maria | G23: 0 | J23: SCATENA Geltrude | K23: 0
A24: =+A23+1 -> 11 | F24: STATI Carmine | G24: 0 | J24: SILVESTRI Antonella | K24: 0
A25: =+A24+1 -> 12 | F25: STATI Wilma | G25: 0 | J25: STATI Angelo | K25: 0
A26: =+A25+1 -> 13 | B26: Roberta TOLLIS | C26: 0 | F26: Finezio ROZZI | G26: 0 | J26: Aldo PIZZI | K26: 0
A27: =+A26+1 -> 14 | B27: Maria VISCHETTI | C27: 0 | F27: Sabatino SALVATI | G27: 0 | J27: Antonio NARDI | K27: 0
A28: =+A27+1 -> 15 | B28: Simonetta VISCHETTI | C28: 0 | F28: Angelo STATI | G28: 0 | J28: Fabrizio LUSI | K28: 0
A29: =+A28+1 -> 16 | B29: Nicolino DI FELICE | C29: 0 | F29: Grazioso VAIANI | G29: 0 | J29: Marco VENDITTI | K29: 0
B30: TOTALE | C30: =SUM(C14:C29) -> 0 | D30: =SUM(D14:D29) -> 0 | F30: TOTALE | G30: =SUM(G13:G29) -> 0 | H30: =SUM(H14,H29) -> 0 | J30: TOTALE | K30: =SUM(K14:K29) -> 0 | L30: =SUM(L14,L29) -> 0
F32: VOTI LISTA TOTALI | H32: =D9+H9+L9 -> 0
A33: SCHEDE VALIDE | H33: =D9+H9+L9 -> 0
A34: % SUL TOTALE
A35: SCHEDE BIANCHE
A36: % SUL TOTALE
A37: SCHEDE NULLE
A38: % SUL TOTALE
A39: TOTALE VOTI VALIDI + NULLE + BIANCHE | H39: =H33+H35+H37 -> 0
A40: % SUL TOTALE

Sheet SEZIONE 3
A2: COMUNE di CAPISTRELLO
A3: Servizio ELETTORALE
A5: Elezioni amministrative 31 MAGGIO 2015
A6: ELEZIONE DIRETTA DEL SINDACO E DI N° 12 CONSIGLIERI COMUNALI
A7: SEZIONE N° 3
B9: TOTALE VOTI LISTA | F9: TOTALE VOTI LISTA | J9: TOTALE VOTI LISTA
B10: LISTA N° 1 - MOVIMENTO 5 STELLE | F10: LISTA N° 2 - UN PAESE IN COMUNE | J10: LISTA N° 3 - PARTECIPAZIONE E SVILUPPO
B11: CANDIDATI | C11: VALIDI | D11: TOTALE | F11: CANDIDATI | G11: VALIDI | H11: TOTALE | J11: CANDIDATI | K11: VALIDI | L11: TOTALE
B13: Antonino LUSI | C13: 0 | F13: Francesco CICIOTTI | J13: G. Moreno DI CINTIO
A14: 1 | B14: Alessandro CROCE | C14: 0 | F14: Monia LUSTRI | G14: 0 | J14: Elio ANDREOZZI | K14: 0
A15: =+A14+1 -> 2 | B15: Alfio Cataldo DI BATTISTA | C15: 0 | F15: Orazio DE MEIS | G15: 0 | J15: Fernando BISEGNA | K15: 0
A16: =+A15+1 -> 3 | B16: Sergio DI MARCO | C16: 0 | F16: Domenico DI DOMENICO | G16: 0 | J16: Alfio CAPODACQUA | K16: 0
A17: =+A16+1 -> 4 | B17: Stefania GIORDANI | C17: 0 | F17: Adolfo DOSCHI | G17: 0 | J17: Ida CARPINETA | K17: 0
A18: =+A17+1 -> 5 | B18: Nicola GRASSO | C18: 0 | F18: Giuseppe ESPOSITO | G18: 0 | J18: Carmine CROCE | K18: 0
A19: =+A18+1 -> 6 | B19: Alessandro LUSI | C19: 0 | F19: Marco FANTOZZI | G19: 0 | J19: Antonio DI CINTIO | K19: 0
A20: =+A19+1 -> 7 | B20: Arnaldo MARIANI | C20: 0 | F20: Tiziano GIORDANI | G20: 0 | J20: Giuseppe DI DOMENICO | K20: 0
A21: =+A20+1 -> 8 | B21: Antonello PALLESCHI | C21: 0 | F21: Gaudenzio LUSI | G21: 0 | J21: Bartolomeo FANTOZZI | K21: 0
A22: =+A21+1 -> 9 | B22: Francesco PIACENTE | C22: 0 | F22: Domenico PALLESCHI | G22: 0 | J22: Francesco MARIANI | K22: 0
A23: =+A22+1 -> 10 | B23: Edoardo PICOZZI | C23: 0 | F23: Sandro PALLESCHI | G23: 0 | J23: Quirino ORLANDI | K23: 0
A24: =+A23+1 -> 11 | B24: Carmine STATI "il medico" | C24: 0 | F24: Ulderico PERSIA | G24: 0 | J24: Donatella PIZZI | K24: 0
A25: =+A24+1 -> 12 | B25: Carmine STATI "il geometra" | C25: 0 | F25: Stelvio PIZZI SCATENA | G25: 0 | J25: Francesco ELIGI | K25: 0
A26: =+A25+1 -> 13 | B26: Roberta TOLLIS | C26: 0 | F26: Finezio ROZZI | G26: 0 | J26: Aldo PIZZI | K26: 0
... A29: =+A28+1 -> 16 | B29: Nicolino DI FELICE | C29: 0 | F29: Grazioso VAIANI | G29: 0 | J29: Marco VENDITTI | K29: 0
B30: TOTALE | C30: =SUM(C14:C29) -> 0 | D30: =SUM(D14:D29) -> 0 | F30: TOTALE | G30: =SUM(G14:G29) -> 0 | H30: =SUM(H14:H29) -> 0 | J30: TOTALE | K30: =SUM(K14:K29) -> 0 | L30: =SUM(L14:L29) -> 0
F32: VOTI LISTA TOTALI | H32: =D9+H9+L9 -> 0
A33: SCHEDE VALIDE | H33: =D9+H9+L9 -> 0
A34: % SUL TOTALE
A35: SCHEDE BIANCHE
A36: % SUL TOTALE
A37: SCHEDE NULLE
A38: % SUL TOTALE
A39: TOTALE VOTI VALIDI + NULLE + BIANCHE | H39: =H33+H35+H37 -> 0
A40: % SUL TOTALE

Sheet SEZIONE 4
A2: COMUNE di CAPISTRELLO
A3: Servizio ELETTORALE
A5: Elezioni amministrative 31 MAGGIO 2015
A6: ELEZIONE DIRETTA DEL SINDACO E DI N° 16 CONSIGLIERI COMUNALI
A7: SEZIONE N° 4
B9: TOTALE VOTI LISTA | F9: TOTALE VOTI LISTA | J9: TOTALE VOTI LISTA
B10: LISTA N° 1 - MOVIMENTO 5 STELLE | F10: LISTA N° 2 - UN PAESE IN COMUNE | J10: LISTA N° 3 - PARTECIPAZIONE E SVILUPPO
B11: CANDIDATI | C11: VALIDI | D11: TOTALE | F11: CANDIDATI | G11: VALIDI | H11: TOTALE | J11: CANDIDATI | K11: VALIDI | L11: TOTALE
B13: Antonino LUSI | F13: Francesco CICIOTTI | J13: G. Moreno DI CINTIO
A14: 1 | B14: Alessandro CROCE | C14: 0 | F14: Monia LUSTRI | G14: 0 | J14: Elio ANDREOZZI | K14: 0
A15: =+A14+1 -> 2 | B15: Alfio Cataldo DI BATTISTA | C15: 0 | F15: Orazio DE MEIS | G15: 0 | J15: Fernando BISEGNA | K15: 0
A16: =+A15+1 -> 3 | B16: Sergio DI MARCO | C16: 0 | F16: Domenico DI DOMENICO | G16: 0 | J16: Alfio CAPODACQUA | K16: 0
A17: =+A16+1 -> 4 | B17: Stefania GIORDANI | C17: 0 | F17: Adolfo DOSCHI | G17: 0 | J17: Ida CARPINETA | K17: 0
A18: =+A17+1 -> 5 | B18: Nicola GRASSO | C18: 0 | F18: Giuseppe ESPOSITO | G18: 0 | J18: Carmine CROCE | K18: 0
A19: =+A18+1 -> 6 | B19: Alessandro LUSI | C19: 0 | F19: Marco FANTOZZI | G19: 0 | J19: Antonio DI CINTIO | K19: 0
A20: =+A19+1 -> 7 | B20: Arnaldo MARIANI | C20: 0 | F20: Tiziano GIORDANI | G20: 0 | J20: Giuseppe DI DOMENICO | K20: 0
A21: =+A20+1 -> 8 | B21: Antonello PALLESCHI | C21: 0 | F21: Gaudenzio LUSI | G21: 0 | J21: Bartolomeo FANTOZZI | K21: 0
A22: =+A21+1 -> 9 | B22: Francesco PIACENTE | C22: 0 | F22: Domenico PALLESCHI | G22: 0 | J22: Francesco MARIANI | K22: 0
A23: =+A22+1 -> 10 | B23: Edoardo PICOZZI | C23: 0 | F23: Sandro PALLESCHI | G23: 0 | J23: Quirino ORLANDI | K23: 0
A24: =+A23+1 -> 11 | B24: Carmine STATI "il medico" | C24: 0 | F24: Ulderico PERSIA | G24: 0 | J24: Donatella PIZZI | K24: 0
A25: =+A24+1 -> 12 | B25: Carmine STATI "il geometra" | C25: 0 | F25: Stelvio PIZZI SCATENA | G25: 0 | J25: Francesco ELIGI | K25: 0
B30: TOTALE | C30: =SUM(C14:C29) -> 0 | D30: =SUM(D14:D29) -> 0 | F30: TOTALE | G30: =SUM(G14:G29) -> 0 | H30: =SUM(H14:H29) -> 0 | J30: TOTALE | K30: =SUM(K14:K29) -> 0 | L30: =SUM(L14:L29) -> 0
F32: VOTI LISTA TOTALI | H32: =D9+H9+L9 -> 0
A33: SCHEDE VALIDE | H33: =D9+H9+L9 -> 0
A34: % SUL TOTALE
A35: SCHEDE BIANCHE
A36: % SUL TOTALE
A37: SCHEDE NULLE
A38: % SUL TOTALE
A39: TOTALE VOTI VALIDI + NULLE + BIANCHE | H39: =H33+H35+H37 -> 0
A40: % SUL TOTALE

Sheet SEZIONE 5
A2: COMUNE di CAPISTRELLO
A3: Servizio ELETTORALE
A5: Elezioni amministrative 31 MAGGIO 2015
A6: ELEZIONE DIRETTA DEL SINDACO E DI N° 12 CONSIGLIERI COMUNALI
A7: SEZIONE N° 5
B9: TOTALE VOTI LISTA | F9: TOTALE VOTI LISTA | J9: TOTALE VOTI LISTA
B10: LISTA N° 1 - MOVIMENTO 5 STELLE | F10: LISTA N° 2 - UN PAESE IN COMUNE | J10: LISTA N° 3 - PARTECIPAZINE E SVILUPPO
B11: CANDIDATI | C11: VALIDI | D11: TOTALE | F11: CANDIDATI | G11: VALIDI | H11: TOTALE | J11: CANDIDATI | K11: VALIDI | L11: TOTALE
B13: Antonino LUSI | F13: Francesco CICIOTTI | J13: G. Moreno DI CINTIO
A14: 1 | B14: Alessandro CROCE | C14: 0 | F14: Monia LUSTRI | G14: 0 | J14: Elio ANDREOZZI | K14: 0
A15: =+A14+1 -> 2 | B15: Alfio Cataldo DI BATTISTA | C15: 0 | F15: Orazio DE MEIS | G15: 0 | J15: Fernando BISEGNA | K15: 0
A16: =+A15+1 -> 3 | B16: Sergio DI MARCO | C16: 0 | F16: Domenico DI DOMENICO | G16: 0 | J16: Alfio CAPODACQUA | K16: 0
A17: =+A16+1 -> 4 | B17: Stefania GIORDANI | C17: 0 | F17: Adolfo DOSCHI | G17: 0 | J17: Ida CARPINETA | K17: 0
A18: =+A17+1 -> 5 | B18: Nicola GRASSO | C18: 0 | F18: Giuseppe ESPOSITO | G18: 0 | J18: Carmine CROCE | K18: 0
A19: =+A18+1 -> 6 | B19: Alessandro LUSI | C19: 0 | F19: Marco FANTOZZI | G19: 0 | J19: Antonio DI CINTIO | K19: 0
A20: =+A19+1 -> 7 | B20: Arnaldo MARIANI | C20: 0 | F20: Tiziano GIORDANI | G20: 0 | J20: Giuseppe DI DOMENICO | K20: 0
A21: =+A20+1 -> 8 | B21: Antonello PALLESCHI | C21: 0 | F21: Gaudenzio LUSI | G21: 0 | J21: Bartolomeo FANTOZZI | K21: 0
A22: =+A21+1 -> 9 | B22: Francesco PIACENTE | C22: 0 | F22: Domenico PALLESCHI | G22: 0 | J22: Francesco MARIANI | K22: 0
A23: =+A22+1 -> 10 | B23: Edoardo PICOZZI | C23: 0 | F23: Sandro PALLESCHI | G23: 0 | J23: Quirino ORLANDI | K23: 0
A24: =+A23+1 -> 11 | B24: Carmine STATI "il medico" | C24: 0 | F24: Ulderico PERSIA | G24: 0 | J24: Donatella PIZZI | K24: 0
A25: =+A24+1 -> 12 | B25: Carmine STATI "il geometra" | C25: 0 | F25: Stelvio PIZZI SCATENA | G25: 0 | J25: Francesco ELIGI | K25: 0
A26: =+A25+1 -> 13 | B26: Roberta TOLLIS | C26: 0 | F26: Finezio ROZZI | G26: 0 | J26: Aldo PIZZI | K26: 0
... A29: =+A28+1 -> 16 | B29: Nicolino DI FELICE | C29: 0 | F29: Grazioso VAIANI | G29: 0 | J29: Marco VENDITTI | K29: 0
B30: TOTALE | C30: =SUM(C14:C29) -> 0 | D30: =SUM(D14,D29) -> 0 | F30: TOTALE | G30: =SUM(G14:G29) -> 0 | H30: =SUM(H14,H29) -> 0 | J30: TOTALE | K30: =SUM(K14:K29) -> 0 | L30: =SUM(L14,L29) -> 0
F32: VOTI LISTA TOTALI | H32: =D9+H9+L9 -> 0
A33: SCHEDE VALIDE | H33: =D9+H9+L9 -> 0
A34: % SUL TOTALE
A35: SCHEDE BIANCHE
A36: % SUL TOTALE
A37: SCHEDE NULLE
A38: % SUL TOTALE
A39: TOTALE VOTI VALIDI + NULLE + BIANCHE | H39: =H33+H35+H37 -> 0
A40: % SUL TOTALE

Sheet SEZIONE 6
A2: COMUNE di CAPISTRELLO
A3: Servizio ELETTORALE
A5: Elezioni amministrative 31 MAGGIO 2015
A6: ELEZIONE DIRETTA DEL SINDACO E DI N° 12 CONSIGLIERI COMUNALI
A7: SEZIONE N° 6
B9: TOTALE VOTI LISTA | F9: TOTALE VOTI LISTA | J9: TOTALE VOTI LISTA
B10: LISTA N° 1 - MOVIMENTO 5 STELLE | F10: LISTA N° 2 - UN PAESE IN COMUNE | J10: LISTA N° 3 - PARTECIPAZIONE E SVILUPPO
B11: CANDIDATI | C11: VALIDI | D11: TOTALE | F11: CANDIDATI | G11: VALIDI | H11: TOTALE | J11: CANDIDATI | K11: VALIDI | L11: TOTALE
B13: Antonino LUSI | F13: Francesco CICIOTTI | J13: G. Moreno DI CINTIO
A14: 1 | B14: Alessandro CROCE | C14: 0 | F14: Monia LUSTRI | G14: 0 | J14: Elio ANDREOZZI | K14: 0
A15: =+A14+1 -> 2 | B15: Alfio Cataldo DI BATTISTA | C15: 0 | F15: Orazio DE MEIS | G15: 0 | J15: Fernando BISEGNA | K15: 0
A16: =+A15+1 -> 3 | B16: Sergio DI MARCO | C16: 0 | F16: Domenico DI DOMENICO | G16: 0 | J16: Alfio CAPODACQUA | K16: 0
A17: =+A16+1 -> 4 | B17: Stefania GIORDANI | C17: 0 | F17: Adolfo DOSCHI | G17: 0 | J17: Ida CARPINETA | K17: 0
A18: =+A17+1 -> 5 | B18: Nicola GRASSO | C18: 0 | F18: Giuseppe ESPOSITO | G18: 0 | J18: Carmine CROCE | K18: 0
A19: =+A18+1 -> 6 | B19: Alessandro LUSI | C19: 0 | F19: Marco FANTOZZI | G19: 0 | J19: Antonio DI CINTIO | K19: 0
A20: =+A19+1 -> 7 | B20: Arnaldo MARIANI | C20: 0 | F20: Tiziano GIORDANI | G20: 0 | J20: Giuseppe DI DOMENICO | K20: 0
A21: =+A20+1 -> 8 | B21: Antonello PALLESCHI | C21: 0 | F21: Gaudenzio LUSI | G21: 0 | J21: Bartolomeo FANTOZZI | K21: 0
A22: =+A21+1 -> 9 | B22: Francesco PIACENTE | C22: 0 | F22: Domenico PALLESCHI | G22: 0 | J22: Francesco MARIANI | K22: 0
A23: =+A22+1 -> 10 | B23: Edoardo PICOZZI | C23: 0 | F23: Sandro PALLESCHI | G23: 0 | J23: Quirino ORLANDI | K23: 0
A24: =+A23+1 -> 11 | B24: Carmine STATI "il medico" | C24: 0 | F24: Ulderico PERSIA | G24: 0 | J24: Donatella PIZZI | K24: 0
A25: =+A24+1 -> 12 | B25: Carmine STATI "il geometra" | C25: 0 | F25: Stelvio PIZZI SCATENA | G25: 0 | J25: Francesco ELIGI | K25: 0
A26: =+A25+1 -> 13 | B26: Roberta TOLLIS | C26: 0 | F26: Finezio ROZZI | G26: 0 | J26: Aldo PIZZI | K26: 0
... A29: =+A28+1 -> 16 | B29: Nicolino DI FELICE | C29: 0 | F29: Grazioso VAIANI | G29: 0 | J29: Marco VENDITTI | K29: 0
B30: TOTALE | C30: =SUM(C14:C29) -> 0 | D30: =SUM(D14:D29) -> 0 | F30: TOTALE | G30: =SUM(G14:G29) -> 0 | H30: =SUM(H14:H29) -> 0 | J30: TOTALE | K30: =SUM(K14:K29) -> 0 | L30: =SUM(L14:L29) -> 0
F32: VOTI LISTA TOTALI | H32: =D9+H9+L9 -> 0
A33: SCHEDE VALIDE | H33: =D9+H9+L9 -> 0
A34: % SUL TOTALE
A35: SCHEDE BIANCHE
A36: % SUL TOTALE
A37: SCHEDE NULLE
A38: % SUL TOTALE
A39: TOTALE VOTI VALIDI + NULLE + BIANCHE | H39: =H33+H35+H37 -> 0
A40: % SUL TOTALE

Sheet ELETTI
A2: COMUNE di CAPISTRELLO
A3: Servizio ELETTORALE
A5: Elezioni amministrative 28 - 29 marzo 2010
A6: ELEZIONE DIRETTA DEL SINDACO E DI N° 16 CONSIGLIERI COMUNALI
A8: ELENCO DEGLI ELETTI
B10: CANDIDATI | C10: VOTI | E10: LISTA
B12: Antonino LUSI Sindaco | C12: 1634 | D12: M A G G I O R A N Z A
A13: 1 | B13: Carmine STATI "il medico" | C13: 197
A14: =+A13+1 -> 2 | B14: Arnaldo MARIANI | C14: 127
A15: =+A14+1 -> 3 | B15: Alessandro LUSI | C15: 119
A16: =+A15+1 -> 4 | B16: Nicolino DI FELICE | C16: 106
A17: =+A16+1 -> 5 | B17: Francesco PIACENTE | C17: 95
A18: =+A17+1 -> 6 | B18: Alessandro CROCE | C18: 93
A19: =+A18+1 -> 7 | B19: Alfio Cataldo DI BATTISTA | C19: 93
A20: =+A19+1 -> 8 | B20: Carmine STATI "il geometra" | C20: 91
A21: =+A20+1 -> 9 | B21: Nicola GRASSO | C21: 89
A22: =+A21+1 -> 10 | B22: Maria VISCHETTI | C22: 80
A23: =+A22+1 -> 11 | B23: Antonello PALLESCHI | C23: 74
A24: =+A23+1 -> 12 | B24: Francesco CICIOTTI | C24: 1276
A25: =+A24+1 -> 13 | B25: Angelo STATI | C25: 128
... A28: =+A27+1 -> 16 | B28: Aldo PIZZI | C28: 108

Sheet CIFRE ELETTORALI
B1: CANDIDATI | C1: CIFRA COMPLESSIVA | D1: CIFRA INDIVIDUALE | F1: CANDIDATI | G1: CIFRA COMPLESSIVA | H1: CIFRA INDIVIDUALE | J1: CANDIDATI | K1: CIFRA COMPLESSIVA | L1: CIFRA INDIVIDUALE
A2: 1 | B2: Alessandro CROCE | C2: =+D2+1634 -> 1727 | D2: 93 | F2: Monia LUSTRI | G2: =+H2+1276 -> 1297 | H2: 21 | J2: Elio ANDREOZZI | K2: =+L2+773 -> 789 | L2: 16
A3: =+A2+1 -> 2 | B3: Alfio Cataldo DI BATTISTA | C3: =+D3+1634 -> 1727 | D3: 93 | F3: Orazio DE MEIS | G3: =+H3+1276 -> 1370 | H3: 94 | J3: Fernando BISEGNA | K3: =+L3+773 -> 788 | L3: 15
A4: =+A3+1 -> 3 | B4: Sergio DI MARCO | C4: =+D4+1634 -> 1672 | D4: 38 | F4: Domenico DI DOMENICO | G4: =+H4+1276 -> 1318 | H4: 42 | J4: Alfio CAPODACQUA | K4: =+L4+773 -> 802 | L4: 29
A5: =+A4+1 -> 4 | B5: Stefania GIORDANI | C5: =+D5+1634 -> 1699 | D5: 65 | F5: Adolfo DOSCHI | G5: =+H5+1276 -> 1346 | H5: 70 | J5: Ida CARPINETA | K5: =+L5+773 -> 806 | L5: 33
A6: =+A5+1 -> 5 | B6: Nicola GRASSO | C6: =+D6+1634 -> 1723 | D6: 89 | F6: Giuseppe ESPOSITO | G6: =+H6+1276 -> 1331 | H6: 55 | J6: Carmine CROCE | K6: =+L6+773 -> 834 | L6: 61
A7: =+A6+1 -> 6 | B7: Alessandro LUSI | C7: =+D7+1634 -> 1753 | D7: 119 | F7: Marco FANTOZZI | G7: =+H7+1276 -> 1340 | H7: 64 | J7: Antonio DI CINTIO | K7: =+L7+773 -> 871 | L7: 98
A8: =+A7+1 -> 7 | B8: Arnaldo MARIANI | C8: =+D8+1634 -> 1761 | D8: 127 | F8: Tiziano GIORDANI | G8: =+H8+1276 -> 1319 | H8: 43 | J8: Giuseppe DI DOMENICO | K8: =+L8+773 -> 819 | L8: 46
A9: =+A8+1 -> 8 | B9: Antonello PALLESCHI | C9: =+D9+1634 -> 1708 | D9: 74 | F9: Gaudenzio LUSI | G9: =+H9+1276 -> 1386 | H9: 110 | J9: Bartolomeo FANTOZZI | K9: =+L9+773 -> 792 | L9: 19
A10: =+A9+1 -> 9 | B10: Francesco PIACENTE | C10: =+D10+1634 -> 1729 | D10: 95 | F10: Domenico PALLESCHI | G10: =+H10+1276 -> 1364 | H10: 88 | J10: Francesco MARIANI | K10: =+L10+773 -> 847 | L10: 74
A11: =+A10+1 -> 10 | B11: Edoardo PICOZZI | C11: =+D11+1634 -> 1705 | D11: 71 | F11: Sandro PALLESCHI | G11: =+H11+1276 -> 1358 | H11: 82 | J11: Quirino ORLANDI | K11: =+L11+773 -> 835 | L11: 62
A12: =+A11+1 -> 11 | B12: Carmine STATI "il medico" | C12: =+D12+1634 -> 1831 | D12: 197 | F12: Ulderico PERSIA | G12: =+H12+1276 -> 1368 | H12: 92 | J12: Donatella PIZZI | K12: =+L12+773 -> 803 | L12: 30
A13: =+A12+1 -> 12 | B13: Carmine STATI "il geometra" | C13: =+D13+1634 -> 1725 | D13: 91 | F13: Stelvio PIZZI SCATENA | G13: =+H13+1276 -> 1396 | H13: 120 | J13: Francesco ELIGI | K13: =+L13+773 -> 821 | L13: 48
A14: =+A13+1 -> 13 | B14: Roberta TOLLIS | C14: =+D14+1634 -> 1705 | D14: 71 | F14: Finezio ROZZI | G14: =+H14+1276 -> 1342 | H14: 66 | J14: Aldo PIZZI | K14: =+L14+773 -> 881 | L14: 108
... A17: =+A16+1 -> 16 | B17: Nicolino DI FELICE | C17: =+D17+1634 -> 1740 | D17: 106 | F17: Grazioso VAIANI | G17: =+H17+1276 -> 1310 | H17: 34 | J17: Marco VENDITTI | K17: =+L17+773 -> 781 | L17: 8
C18: =SUM(C2:C17) -> 27596 | D18: =SUM(D2:D17) -> 1452 | G18: =SUM(G2:G17) -> 21571 | H18: =SUM(H2:H17) -> 1155 | K18: =SUM(K2:K17) -> 13066 | L18: =SUM(L2:L17) -> 698

Sheet TOT GENERALE
A2: COMUNE di CAPISTRELLO
A3: Servizio ELETTORALE
A4: Elezioni amministrative comunali del 26/05/2019
A5: ELEZIONE DIRETTA DEL SINDACO E DI N° 12 CONSIGLIERI COMUNALI
A6: RISULTATI FINALI (*)
B7: SEGGI ASSEGNATI | K7: SEGGI ASSEGNATI | T7: SEGGI ASSEGNATI
B8: TOTALE VOTI LISTA | E8: =C8/3683 -> 0 | K8: TOTALE VOTI LISTA | N8: =+L8/3683 -> 0 | T8: TOTALE VOTI LISTA | W8: =+U8/3683 -> 0
B9: Lista n°1 Partecipazione e Sviluppo FRANCESCO CICIOTTI | K9: Lista n° 2 UNA BUONA IDEA VITTORIO SILVESTRI | T9: LISTA N° 3 - OBIETTIVO FUTURO DINA BUSSI
B10: CANDIDATI | C10: VOTI PER SEZIONE | I10: TOTALE | K10: CANDIDATI | L10: VOTI PER SEZIONE | R10: TOTALE | T10: CANDIDATI | U10: VOTI PER SEZIONE | AA10: TOTALE
C11: 1 | D11: 2 | E11: 3 | F11: 4 | G11: 5 | H11: 6 | L11: 1 | M11: 2 | N11: 3 | O11: 4 | P11: 5 | Q11: 6 | U11: 1 | V11: 2 | W11: 3 | X11: 4 | Y11: 5 | Z11: 6
B12: FRANCESCO CICIOTTI | C12: 208 | D12: 237 | E12: 356 | F12: 325 | G12: 88 | H12: 69 | I12: =SUM(C12:H12) -> 1283 | K12: VITTORIO SILVESTRI | L12: 193 | M12: 160 | N12: 243 | O12: 298 | P12: 28 | Q12: 18 | R12: =SUM(L12:Q12) -> 940 | T12: DINA BUSSI | U12: 200 | V12: 190 | W12: 300 | X12: 267 | Y12: 51 | Z12: 61 | AA12: =SUM(U12:Z12) -> 1069
A13: 1 | B13: BISEGNA ANTONELLA | C13: 8 | D13: 9 | E13: 15 | F13: 13 | G13: 4 | H13: 0 | I13: =SUM(C13:H13) -> 49 | K13: CAPODACQUA DANIEL | L13: 11 | M13: 11 | N13: 17 | O13: 13 | P13: 2 | Q13: =-Q5 -> 0 | R13: =SUM(L13:Q13) -> 54 | T13: CROCE ALESSANDRO | U13: 39 | V13: 18 | W13: 35 | X13: 37 | Y13: 5 | Z13: 2 | AA13: =SUM(U13:Z13) -> 136
A14: =+A13+1 -> 2 | B14: CAPPUCCI EMANUELA | C14: 54 | D14: 42 | E14: 66 | F14: 62 | G14: 8 | H14: 0 | I14: =SUM(C14:H14) -> 232 | K14: CICCHINELLI ALESSANDRO | L14: 10 | M14: 11 | N14: 9 | O14: 18 | P14: 3 | Q14: 0 | R14: =SUM(L14:Q14) -> 51 | T14: DI DOMENICO R. ELISA | U14: 20 | V14: 17 | W14: 19 | X14: 8 | Y14: 2 | Z14: 1 | AA14: =SUM(U14:Z14) -> 67
A15: =+A14+1 -> 3 | B15: DI GIACOMO ELISA | C15: 28 | D15: 39 | E15: 63 | F15: 44 | G15: 12 | H15: 2 | I15: =SUM(C15:H15) -> 188 | K15: CICIOTTI FRANCESCO | L15: 21 | M15: 17 | N15: 33 | O15: 24 | P15: 2 | Q15: 5 | R15: =SUM(L15:Q15) -> 102 | T15: DI FELICE CHIARA | U15: 67 | V15: 44 | W15: 91 | X15: 74 | Y15: 10 | Z15: 42 | AA15: =SUM(U15:Z15) -> 328
A16: =+A15+1 -> 4 | B16: IMBASTARI SANDRA | C16: 0 | D16: 4 | E16: 7 | F16: 5 | G16: 12 | H16: 52 | I16: =SUM(C16:H16) -> 80 | K16: DE SANTIS SARA | L16: 27 | M16: 44 | N16: 46 | O16: 56 | P16: 2 | Q16: 2 | R16: =SUM(L16:Q16) -> 177 | T16: DI MASSIMO CRISTIAN | U16: 3 | V16: 4 | W16: 4 | X16: 4 | Y16: 0 | Z16: 44 | AA16: =SUM(U16:Z16) -> 59
A17: =+A16+1 -> 5 | B17: LUSI ROSA | C17: 27 | D17: 41 | E17: 48 | F17: 44 | G17: 12 | H17: 0 | I17: =SUM(C17:H17) -> 172 | K17: DI DOMENICO SABATINO | L17: 26 | M17: 9 | N17: 28 | O17: 11 | P17: 3 | Q17: 0 | R17: =SUM(L17:Q17) -> 77 | T17: DOSCHI SABATINO | U17: 3 | V17: 6 | W17: 7 | X17: 4 | Y17: 20 | Z17: 1 | AA17: =SUM(U17:Z17) -> 41
A18: =+A17+1 -> 6 | B18: SILVESTRI ANTONELLA | C18: 34 | D18: 38 | E18: 74 | F18: 70 | G18: 12 | H18: 7 | I18: =SUM(C18:H18) -> 235 | K18: FANTOZZI CLAUDIO | L18: 31 | M18: 8 | N18: 30 | O18: 44 | P18: 3 | Q18: 0 | R18: =SUM(L18:Q18) -> 116 | T18: FANTOZZI ALESSIA | U18: 42 | V18: 59 | W18: 102 | X18: 68 | Y18: 16 | Z18: 5 | AA18: =SUM(U18:Z18) -> 292
A19: =+A18+1 -> 7 | B19: DE MEIS ORAZIO | C19: 61 | D19: 40 | E19: 93 | F19: 75 | G19: 7 | H19: 16 | I19: =SUM(C19:H19) -> 292 | K19: FANTOZZI LUCA | L19: 38 | M19: 41 | N19: 48 | O19: 65 | P19: 6 | Q19: 2 | R19: =SUM(L19:Q19) -> 200 | T19: FANTOZZI MONICA | U19: 22 | V19: 13 | W19: 21 | X19: 27 | Y19: 8 | Z19: 1 | AA19: =SUM(U19:Z19) -> 92
A20: =+A19+1 -> 8 | B20: DI FELICE MASSIMILIANO | C20: 16 | D20: 9 | E20: 18 | F20: 19 | G20: 0 | H20: 3 | I20: =SUM(C20:H20) -> 65 | K20: MOSTACCI EMANUELA | L20: 14 | M20: 10 | N20: 31 | O20: 12 | P20: 0 | Q20: 1 | R20: =SUM(L20:Q20) -> 68 | T20: LUSI ALESSANDRO | U20: 29 | V20: 36 | W20: 77 | X20: 63 | Y20: 2 | Z20: 1 | AA20: =SUM(U20:Z20) -> 208
A21: =+A20+1 -> 9 | B21: LIBERATI ERNESTO | C21: 10 | D21: 14 | E21: 11 | F21: 20 | G21: 59 | H21: 11 | I21: =SUM(C21:H21) -> 125 | K21: PALLESCHI ELOISA | L21: 23 | M21: 14 | N21: 26 | O21: 20 | P21: 4 | Q21: 1 | R21: =SUM(L21:Q21) -> 88 | T21: PICOZZI DANTE | U21: 28 | V21: 32 | W21: 65 | X21: 63 | Y21: 19 | Z21: 0 | AA21: =SUM(U21:Z21) -> 207
A22: =+A21+1 -> 10 | B22: LUSTRI MARCO | C22: 23 | D22: 8 | E22: 39 | F22: 31 | G22: 5 | H22: 7 | I22: =SUM(C22:H22) -> 113 | K22: SALUSTRI ANTONELLA | L22: 35 | M22: 21 | N22: 40 | O22: 38 | P22: 6 | Q22: 0 | R22: =SUM(L22:Q22) -> 140 | T22: STATI CARMINE | U22: 31 | V22: 30 | W22: 50 | X22: 23 | Y22: 0 | Z22: 0 | AA22: =SUM(U22:Z22) -> 134
A23: =+A22+1 -> 11 | B23: PALLESCHI VITTORIO | C23: 26 | D23: 21 | E23: 45 | F23: 33 | G23: 0 | H23: 1 | I23: =SUM(C23:H23) -> 126 | K23: SALVATI EMILIANA | L23: 48 | M23: 36 | N23: 46 | O23: 119 | P23: 9 | Q23: 6 | R23: =SUM(L23:Q23) -> 264 | T23: PERSIA ANTONIO | U23: 27 | V23: 20 | W23: 33 | X23: 33 | Y23: 1 | Z23: 1 | AA23: =SUM(U23:Z23) -> 115
A24: =+A23+1 -> 12 | B24: STATI ANGELO | C24: 43 | D24: 103 | E24: 103 | F24: 114 | G24: 15 | H24: 21 | I24: =SUM(C24:H24) -> 399 | K24: STATI MARIANO | L24: 22 | M24: 17 | N24: 30 | O24: 53 | P24: 2 | Q24: 1 | R24: =SUM(L24:Q24) -> 125 | T24: MURZILLI DANILO | U24: 13 | V24: 15 | W24: 5 | X24: 9 | Y24: 0 | Z24: 0 | AA24: =SUM(U24:Z24) -> 42
A25: =+A24+1 -> 13 | B25: Roberta TOLLIS | C25: 8 | D25: 9 | E25: 23 | F25: 31 | G25: ='SEZIONE 5'!C26 -> 0 | H25: ='SEZIONE 6'!C26 -> 0 | I25: =SUM(C25:H25) -> 71 | K25: Finezio ROZZI | L25: 13 | M25: 10 | N25: 21 | O25: 22 | P25: ='SEZIONE 5'!G26 -> 0 | Q25: ='SEZIONE 6'!G26 -> 0 | R25: =SUM(L25:Q25) -> 66 | T25: Aldo PIZZI
A26: =+A25+1 -> 14 | B26: Maria VISCHETTI | C26: 18 | D26: 6 | E26: 25 | F26: 28 | G26: 3 | H26: ='SEZIONE 6'!C27 -> 0 | I26: =SUM(C26:H26) -> 80 | K26: Sabatino SALVATI | L26: 3 | M26: 8 | N26: 15 | O26: 20 | P26: ='SEZIONE 5'!G27 -> 0 | Q26: ='SEZIONE 6'!G27 -> 0 | R26: =SUM(L26:Q26) -> 46 | T26: Antonio NARDI
A27: =+A26+1 -> 15 | B27: Simonetta VISCHETTI | C27: 7 | D27: 4 | E27: 25 | F27: 7 | G27: ='SEZIONE 5'!C28 -> 0 | H27: ='SEZIONE 6'!C28 -> 0 | I27: =SUM(C27:H27) -> 43 | K27: Angelo STATI | L27: 11 | M27: 38 | N27: 44 | O27: 35 | P27: ='SEZIONE 5'!G28 -> 0 | Q27: ='SEZIONE 6'!G28 -> 0 | R27: =SUM(L27:Q27) -> 128 | T27: Fabrizio LUSI
A28: =+A27+1 -> 16 | B28: Nicolino DI FELICE | C28: 34 | D28: 17 | E28: 40 | F28: 14 | G28: ='SEZIONE 5'!C29 -> 0 | H28: 1 | I28: =SUM(C28:H28) -> 106 | K28: Grazioso VAIANI | L28: 0 | M28: 1 | N28: 1 | O28: 1 | P28: ='SEZIONE 5'!G29 -> 0 | Q28: 31 | R28: =SUM(L28:Q28) -> 34 | T28: Marco VENDITTI
I29: =SUM(I13:I24) -> 2076 | R29: =SUM(R13:R24) -> 1462 | AA29: =SUM(AA13:AA24) -> 1721
B32: VOTI LISTE | I32: =SUM(I12,R12,AA12) -> 3292
B33: Sc. BIANCHE | C33: 12 | D33: 5 | E33: 8 | F33: 12 | G33: 2 | H33: 4 | I33: =SUM(C33:H33) -> 43 | Q33: (*) N. B. RISULTATI UFFICIALI DERIVERANNO DALLA PROCLAMAZIONE EFFETTUATA
B34: Sch. NULLE | C34: 10 | D34: 13 | E34: 15 | F34: 11 | G34: 1 | H34: 1 | I34: =SUM(C34:H34) -> 51 | Q34: A CURA DELL'ADUNANZA DEI PRESIDENTI DI SEZIONE DA TENERSI IN DATA 28/05/2019
B35: Sc. CONTEST. e NON ASSEGN. | G35: 0 | H35: 0 | I35: =SUM(C35:H35) -> 0
B36: VOTANTI TOTALI | I36: 3386 | J36: =SUM(C36:I36) -> 3386
B37: DELTA | I37: =SUM(I32,I33,I34,I35,-I36) -> 0

Sheet Tab AFFLUSSO
A2: COMUNE di CAPISTRELLO
A3: Servizio ELETTORALE
A4: __________
A6: Elezioni Amministrative del 28 e 29 marzo 2010
A7: ELEZIONE DEL SINDACO E DEL CONSIGLIO COMUNALE
A8: Tabella afflusso votanti
B10: Domenica 28 marzo | F10: Lunedi 29 marzo | H10: TOTALE VOTANTI
M11: h 13
A12: Sezione | B12: h 12 | C12: h 19 | D12: h 22 | F12: Maschi | G12: Femmine
A13: 1 | B13: 125 | C13: 428 | D13: 523 | F13: 336 | G13: 369 | H13: =+F13+G13 -> 705 | M13: 401
A14: 2 | B14: 137 | C14: 441 | D14: 562 | F14: 352 | G14: 376 | H14: =+F14+G14 -> 728 | M14: 410
A15: 3 | B15: 177 | C15: 570 | D15: 763 | F15: 472 | G15: 505 | H15: =+F15+G15 -> 977 | M15: 561
A16: 4 | B16: 158 | C16: 591 | D16: 773 | F16: 488 | G16: 483 | H16: =+F16+G16 -> 971 | M16: 525
A17: 5 | B17: 23 | C17: 148 | D17: 180 | F17: 103 | G17: 121 | H17: =+F17+G17 -> 224 | J17: VOTANTI DEFINITIVI | M17: 179
A18: 6 | B18: 16 | C18: 126 | D18: 158 | F18: 93 | G18: 96 | H18: =+F18+G18 -> 189 | M18: 149
A20: Totale | B20: =SUM(B13:B19) -> 636 | C20: =SUM(C13:C19) -> 2304 | D20: =SUM(D13:D19) -> 2959 | F20: =SUM(F13:F19) -> 1844 | G20: =SUM(G13:G19) -> 1950 | H20: =+H13+H14+H15+H16+H17+H18 -> 3794 | M20: =SUM(M13:M19) -> 2225
F21: Tot. Votanti
M22: =+M20/B33*100 -> 47.370662
A25: % votanti | B25: =+B38*100 -> 13.540558 | C25: =+C38*100 -> 49.052587 | D25: =+D38*100 -> 62.997658 | F25: % votanti | H25: =+H20/B33*100 -> 80.774963
A30: Corpo Elettorale al 13/03/2010 | F30: Elezioni Comunali 2006
A31: Maschi | B31: 2279
A32: Femmine | B32: 2418 | F32: N° votanti | H32: 3866
A33: Tot. elettori | B33: =SUM(B31:B32) -> 4697 | F33: % | H33: 82.34 | N33: =2968/3987 -> 0.74441936
N34: =+N33*100 -> 74.441936
B38: =+B20/B33 -> 0.13540558 | C38: =+C20/B33 -> 0.49052587 | D38: =+D20/B33 -> 0.62997658
H39: =+#REF!/B33 -> #REF!
H41: =+#REF!/N22 -> #REF!
B48: =912*6 -> 5472
B50: =187*6 -> 1122
B51: =145*30 -> 4350

Sheet RIPARTIZIONE SEGGI
A3: LISTA N° 1 | B3: ='TOT GENERALE'!D8:E8 -> #VALUE! | C3: LISTA N° 2 | D3: ='TOT GENERALE'!L8:N8 -> #VALUE! | E3: LISTA N° 3 | F3: ='TOT GENERALE'!U8:W8 -> #VALUE! | H3: TOT VOTI VALIDI | I3: =+B3+D3+F3 -> #VALUE!
A8: Numeri divisori | B8: 1463 | C8: 962 | D8: 710 | E8: 338
A9: 1 | B9: =+B8/A9 -> 1463 | C9: =+C8/A9 -> 962 | D9: =+D8/A9 -> 710 | E9: =+E8/A9 -> 338
A10: 2 | B10: =+B9/A10 -> 731.5 | C10: =+C9/A10 -> 481 | D10: =+D9/A10 -> 355 | E10: =+E9/A10 -> 169
A11: 3 | B11: =+B10/A11 -> 243.83333 | C11: =+C10/A11 -> 160.33333 | D11: =+D10/A11 -> 118.33333 | E11: =+E10/A11 -> 56.333333
A12: 4 | B12: =+B11/A12 -> 60.958333 | C12: =+C11/A12 -> 40.083333 | D12: =+D11/A12 -> 29.583333 | E12: =+E11/A12 -> 14.083333
A13: 5 | B13: =+B12/A13 -> 12.191667 | C13: =+C12/A13 -> 8.0166667 | D13: =+D12/A13 -> 5.9166667 | E13: =+E12/A13 -> 2.8166667
A14: 6 | B14: =+B13/A14 -> 2.0319444 | C14: =+C13/A14 -> 1.3361111 | D14: =+D13/A14 -> 0.98611111 | E14: =+E13/A14 -> 0.46944444
A15: 7 | B15: =+B14/A15 -> 0.29027778 | C15: =+C14/A15 -> 0.19087302 | D15: =+D14/A15 -> 0.14087302 | E15: =+E14/A15 -> 0.067063492
A16: 8 | B16: =+B15/A16 -> 0.036284722 | C16: =+C15/A16 -> 0.023859127 | D16: =+D15/A16 -> 0.017609127 | E16: =+E15/A16 -> 0.0083829365
A17: 9 | B17: =+B16/A17 -> 0.0040316358 | C17: =+C16/A17 -> 0.0026510141 | D17: =+D16/A17 -> 0.0019565697 | E17: =+E16/A17 -> 0.00093143739
A18: 10 | B18: =+B17/A18 -> 0.00040316358 | C18: =+C17/A18 -> 0.00026510141 | D18: =+D17/A18 -> 0.00019565697 | E18: =+E17/A18 -> 9.3143739e-05
A19: 11 | B19: =+B18/A19 -> 3.6651235e-05 | C19: =+C18/A19 -> 2.4100128e-05 | D19: =+D18/A19 -> 1.7786997e-05 | E19: =+E18/A19 -> 8.4676126e-06 | I19: 187
A20: 12 | I20: 41.32
A21: 13
A22: 14 | I22: =SUM(I19:I21) -> 228.32
A23: 15
A24: 16 | I24: 145
I25: 41.32
I27: =SUM(I24:I26) -> 186.32
